BEGIN:VCALENDAR
VERSION:2.0
PRODID:-//Le Resto des Zanimos - ECPv6.15.20//NONSGML v1.0//EN
CALSCALE:GREGORIAN
METHOD:PUBLISH
X-WR-CALNAME:Le Resto des Zanimos
X-ORIGINAL-URL:https://www.lerestodeszanimos.fr
X-WR-CALDESC:Évènements pour Le Resto des Zanimos
REFRESH-INTERVAL;VALUE=DURATION:PT1H
X-Robots-Tag:noindex
X-PUBLISHED-TTL:PT1H
BEGIN:VTIMEZONE
TZID:Europe/Paris
BEGIN:DAYLIGHT
TZOFFSETFROM:+0100
TZOFFSETTO:+0200
TZNAME:CEST
DTSTART:20160327T010000
END:DAYLIGHT
BEGIN:STANDARD
TZOFFSETFROM:+0200
TZOFFSETTO:+0100
TZNAME:CET
DTSTART:20161030T010000
END:STANDARD
BEGIN:DAYLIGHT
TZOFFSETFROM:+0100
TZOFFSETTO:+0200
TZNAME:CEST
DTSTART:20170326T010000
END:DAYLIGHT
BEGIN:STANDARD
TZOFFSETFROM:+0200
TZOFFSETTO:+0100
TZNAME:CET
DTSTART:20171029T010000
END:STANDARD
BEGIN:DAYLIGHT
TZOFFSETFROM:+0100
TZOFFSETTO:+0200
TZNAME:CEST
DTSTART:20180325T010000
END:DAYLIGHT
BEGIN:STANDARD
TZOFFSETFROM:+0200
TZOFFSETTO:+0100
TZNAME:CET
DTSTART:20181028T010000
END:STANDARD
END:VTIMEZONE
BEGIN:VEVENT
DTSTART;TZID=Europe/Paris:20171209T100000
DTEND;TZID=Europe/Paris:20171209T183000
DTSTAMP:20260421T103552
CREATED:20171205T210939Z
LAST-MODIFIED:20171207T215850Z
UID:525-1512813600-1512844200@www.lerestodeszanimos.fr
SUMMARY:COLLECTE AU EMMAUS QUARTIER SAINT CYPRIEN
DESCRIPTION:
URL:https://www.lerestodeszanimos.fr/agenda/collecte-emaus-quartier-saint-cyprien/
ATTACH;FMTTYPE=image/jpeg:https://www.lerestodeszanimos.fr/wp-content/uploads/2017/12/Collecte-4-1.jpg
END:VEVENT
BEGIN:VEVENT
DTSTART;TZID=Europe/Paris:20171215T150000
DTEND;TZID=Europe/Paris:20171215T200000
DTSTAMP:20260421T103552
CREATED:20171207T214102Z
LAST-MODIFIED:20171207T214451Z
UID:594-1513350000-1513368000@www.lerestodeszanimos.fr
SUMMARY:Collecte & papiers cadeaux en faveur des Zanimos
DESCRIPTION:
URL:https://www.lerestodeszanimos.fr/agenda/collecte-papiers-cadeaux-en-faveur-des-zanimos/
LOCATION:Carrefour Purpan\, 36-54 Route de Bayonne\, Toulouse\, 31024\, France
ATTACH;FMTTYPE=image/jpeg:https://www.lerestodeszanimos.fr/wp-content/uploads/2017/12/th.jpg
END:VEVENT
BEGIN:VEVENT
DTSTART;TZID=Europe/Paris:20171216T100000
DTEND;TZID=Europe/Paris:20171216T190000
DTSTAMP:20260421T103552
CREATED:20171217T154251Z
LAST-MODIFIED:20171217T154353Z
UID:626-1513418400-1513450800@www.lerestodeszanimos.fr
SUMMARY:COLLECTE ALIMENTAIRE & MATERIEL
DESCRIPTION:
URL:https://www.lerestodeszanimos.fr/agenda/collecte-alimentaire-materiel/
LOCATION:Carrefour market Compans Caffarelli\, 3 Esplanade Compans Caffarelli\, Toulouse\, 31000\, France
ATTACH;FMTTYPE=image/jpeg:https://www.lerestodeszanimos.fr/wp-content/uploads/2017/12/Collecte-3.jpg
END:VEVENT
BEGIN:VEVENT
DTSTART;TZID=Europe/Paris:20171222T150000
DTEND;TZID=Europe/Paris:20171222T200000
DTSTAMP:20260421T103552
CREATED:20171207T214747Z
LAST-MODIFIED:20171207T214827Z
UID:598-1513954800-1513972800@www.lerestodeszanimos.fr
SUMMARY:Collecte et papiers cadeaux en faveur des Zanimos
DESCRIPTION:
URL:https://www.lerestodeszanimos.fr/agenda/collecte-et-papiers-cadeaux-en-faveur-des-zanimos/
LOCATION:Carrefour Purpan\, 36-54 Route de Bayonne\, Toulouse\, 31024\, France
ATTACH;FMTTYPE=image/jpeg:https://www.lerestodeszanimos.fr/wp-content/uploads/2017/12/th.jpg
END:VEVENT
END:VCALENDAR