BEGIN:VCALENDAR
VERSION:2.0
PRODID:-//Le Resto des Zanimos - ECPv6.15.20//NONSGML v1.0//EN
CALSCALE:GREGORIAN
METHOD:PUBLISH
X-WR-CALNAME:Le Resto des Zanimos
X-ORIGINAL-URL:https://www.lerestodeszanimos.fr
X-WR-CALDESC:Évènements pour Le Resto des Zanimos
REFRESH-INTERVAL;VALUE=DURATION:PT1H
X-Robots-Tag:noindex
X-PUBLISHED-TTL:PT1H
BEGIN:VTIMEZONE
TZID:Europe/Paris
BEGIN:DAYLIGHT
TZOFFSETFROM:+0100
TZOFFSETTO:+0200
TZNAME:CEST
DTSTART:20160327T010000
END:DAYLIGHT
BEGIN:STANDARD
TZOFFSETFROM:+0200
TZOFFSETTO:+0100
TZNAME:CET
DTSTART:20161030T010000
END:STANDARD
BEGIN:DAYLIGHT
TZOFFSETFROM:+0100
TZOFFSETTO:+0200
TZNAME:CEST
DTSTART:20170326T010000
END:DAYLIGHT
BEGIN:STANDARD
TZOFFSETFROM:+0200
TZOFFSETTO:+0100
TZNAME:CET
DTSTART:20171029T010000
END:STANDARD
BEGIN:DAYLIGHT
TZOFFSETFROM:+0100
TZOFFSETTO:+0200
TZNAME:CEST
DTSTART:20180325T010000
END:DAYLIGHT
BEGIN:STANDARD
TZOFFSETFROM:+0200
TZOFFSETTO:+0100
TZNAME:CET
DTSTART:20181028T010000
END:STANDARD
END:VTIMEZONE
BEGIN:VEVENT
DTSTART;TZID=Europe/Paris:20171119T140000
DTEND;TZID=Europe/Paris:20171119T200000
DTSTAMP:20260421T132530
CREATED:20171123T143636Z
LAST-MODIFIED:20171123T145214Z
UID:397-1511100000-1511121600@www.lerestodeszanimos.fr
SUMMARY:1er LOTO DES ZANIMOS
DESCRIPTION:Les Zanimos organisent leur premier loto venez nombreux !!!!\nIl y a plein plein plein de lots à gagner : \n✓ Vélo\n✓ Téléviseur\n✓ Machine à café Nespresso\n✓ Nombreux repas restaurant\n✓ Cours de Golf……..et bien + encore!!!
URL:https://www.lerestodeszanimos.fr/agenda/1er-loto-des-zanimos/
LOCATION:Maison des associations\, 9 rue des Sources\, Veille Toulouse\, 31320\, France
CATEGORIES:Loto
END:VEVENT
END:VCALENDAR