BEGIN:VCALENDAR
VERSION:2.0
PRODID:-//Le Resto des Zanimos - ECPv6.15.20//NONSGML v1.0//EN
CALSCALE:GREGORIAN
METHOD:PUBLISH
X-WR-CALNAME:Le Resto des Zanimos
X-ORIGINAL-URL:https://www.lerestodeszanimos.fr
X-WR-CALDESC:Évènements pour Le Resto des Zanimos
REFRESH-INTERVAL;VALUE=DURATION:PT1H
X-Robots-Tag:noindex
X-PUBLISHED-TTL:PT1H
BEGIN:VTIMEZONE
TZID:Europe/Paris
BEGIN:DAYLIGHT
TZOFFSETFROM:+0100
TZOFFSETTO:+0200
TZNAME:CEST
DTSTART:20160327T010000
END:DAYLIGHT
BEGIN:STANDARD
TZOFFSETFROM:+0200
TZOFFSETTO:+0100
TZNAME:CET
DTSTART:20161030T010000
END:STANDARD
BEGIN:DAYLIGHT
TZOFFSETFROM:+0100
TZOFFSETTO:+0200
TZNAME:CEST
DTSTART:20170326T010000
END:DAYLIGHT
BEGIN:STANDARD
TZOFFSETFROM:+0200
TZOFFSETTO:+0100
TZNAME:CET
DTSTART:20171029T010000
END:STANDARD
BEGIN:DAYLIGHT
TZOFFSETFROM:+0100
TZOFFSETTO:+0200
TZNAME:CEST
DTSTART:20180325T010000
END:DAYLIGHT
BEGIN:STANDARD
TZOFFSETFROM:+0200
TZOFFSETTO:+0100
TZNAME:CET
DTSTART:20181028T010000
END:STANDARD
END:VTIMEZONE
BEGIN:VEVENT
DTSTART;TZID=Europe/Paris:20171014T100000
DTEND;TZID=Europe/Paris:20171014T190000
DTSTAMP:20260421T144339
CREATED:20171123T145639Z
LAST-MODIFIED:20171123T145639Z
UID:412-1507975200-1508007600@www.lerestodeszanimos.fr
SUMMARY:Collecte Alimentaire et Matériel
DESCRIPTION:Nous organisons le Samedi 14/10/2017 une GRANDE COLLECTE Alimentaire et Matériel pour les Chiens SDF de Toulouse. Nous serons présents au Maxi Zoo 41 bis Route d’Espagne31120 Portet sur Garonne de 10h à 19h. Des bénévoles seront là pour répondre à vos questions. Venez nombreux à notre rencontre et parlez-en autour de vous!!! Les Zanimos vous remercient!!!
URL:https://www.lerestodeszanimos.fr/agenda/collecte-alimentaire-et-materiel/
LOCATION:Maxi Zoo\, 41 bis route d'espagne\, Portet sur Garonne\, 31120
CATEGORIES:Collecte A/M
END:VEVENT
END:VCALENDAR